BEGIN:VCALENDAR
VERSION:2.0
PRODID:-//Christen in Mittweida - ECPv6.10.1.1//NONSGML v1.0//EN
CALSCALE:GREGORIAN
METHOD:PUBLISH
X-WR-CALNAME:Christen in Mittweida
X-ORIGINAL-URL:https://christen-in-mittweida.de
X-WR-CALDESC:Veranstaltungen für Christen in Mittweida
REFRESH-INTERVAL;VALUE=DURATION:PT1H
X-Robots-Tag:noindex
X-PUBLISHED-TTL:PT1H
BEGIN:VTIMEZONE
TZID:Europe/Berlin
BEGIN:DAYLIGHT
TZOFFSETFROM:+0100
TZOFFSETTO:+0200
TZNAME:CEST
DTSTART:20220327T010000
END:DAYLIGHT
BEGIN:STANDARD
TZOFFSETFROM:+0200
TZOFFSETTO:+0100
TZNAME:CET
DTSTART:20221030T010000
END:STANDARD
END:VTIMEZONE
BEGIN:VEVENT
DTSTART;TZID=Europe/Berlin:20221205T193200
DTEND;TZID=Europe/Berlin:20221205T220000
DTSTAMP:20260423T215247
CREATED:20221130T211519Z
LAST-MODIFIED:20221204T120258Z
UID:580-1670268720-1670277600@christen-in-mittweida.de
SUMMARY:Worship Night
DESCRIPTION:mit dem Christlichen Studententreff Mittweida \n\n\n\nim Studio B (6-152) in der Hochschule Mittweida
URL:https://christen-in-mittweida.de/event/worship-night/
LOCATION:Hochschule Studio B\, Am Schwanenteich 4A\, Mittweida\, 09648\, Deutschland
CATEGORIES:Gemeindeübergreifend
ATTACH;FMTTYPE=image/jpeg:https://christen-in-mittweida.de/wp-content/uploads/2022/12/worshio2022.jpg
END:VEVENT
BEGIN:VEVENT
DTSTART;TZID=Europe/Berlin:20221211T170000
DTEND;TZID=Europe/Berlin:20221211T180000
DTSTAMP:20260423T215247
CREATED:20221201T060511Z
LAST-MODIFIED:20221207T162709Z
UID:620-1670778000-1670781600@christen-in-mittweida.de
SUMMARY:Weihnachtsoratorium
DESCRIPTION:
URL:https://christen-in-mittweida.de/event/weihnachtsoratorium/
LOCATION:Stadtkirche\, Stadtkirche\, Mittweida\, 09648\, Deutschland
CATEGORIES:Evangelische Kirche
ATTACH;FMTTYPE=image/jpeg:https://christen-in-mittweida.de/wp-content/uploads/2022/12/plakat-wo2-1_orig.jpg
END:VEVENT
BEGIN:VEVENT
DTSTART;TZID=Europe/Berlin:20221217T160000
DTEND;TZID=Europe/Berlin:20221217T170000
DTSTAMP:20260423T215247
CREATED:20221130T180255Z
LAST-MODIFIED:20221214T214225Z
UID:562-1671292800-1671296400@christen-in-mittweida.de
SUMMARY:Musical "Die sonderbare Nacht"
DESCRIPTION:
URL:https://christen-in-mittweida.de/event/sonderbare-nacht/
LOCATION:Katholische Kirche\, Damaschkestr. 1\, Mittweida\, 09648\, Deutschland
CATEGORIES:Gemeindeübergreifend
ATTACH;FMTTYPE=image/jpeg:https://christen-in-mittweida.de/wp-content/uploads/2022/11/Plakat-Die-Sonderbare-Nacht.jpg
END:VEVENT
BEGIN:VEVENT
DTSTART;TZID=Europe/Berlin:20221224T153000
DTEND;TZID=Europe/Berlin:20221224T163000
DTSTAMP:20260423T215247
CREATED:20221203T135354Z
LAST-MODIFIED:20221206T123802Z
UID:930-1671895800-1671899400@christen-in-mittweida.de
SUMMARY:Weihnachten in der Bürkelhalle
DESCRIPTION:
URL:https://christen-in-mittweida.de/event/weihnachten-in-der-buerkelhalle/
LOCATION:Bürkelhalle\, Schulstraße 6\, Mittweida\, 09648\, Deutschland
CATEGORIES:Evangelische Freikirche
ATTACH;FMTTYPE=image/jpeg:https://christen-in-mittweida.de/wp-content/uploads/2022/12/Buerkelhalle.jpg
END:VEVENT
END:VCALENDAR