BEGIN:VCALENDAR
VERSION:2.0
PRODID:-//Christen in Mittweida - ECPv6.10.1.1//NONSGML v1.0//EN
CALSCALE:GREGORIAN
METHOD:PUBLISH
X-ORIGINAL-URL:https://christen-in-mittweida.de
X-WR-CALDESC:Veranstaltungen für Christen in Mittweida
REFRESH-INTERVAL;VALUE=DURATION:PT1H
X-Robots-Tag:noindex
X-PUBLISHED-TTL:PT1H
BEGIN:VTIMEZONE
TZID:Europe/Berlin
BEGIN:DAYLIGHT
TZOFFSETFROM:+0100
TZOFFSETTO:+0200
TZNAME:CEST
DTSTART:20240331T010000
END:DAYLIGHT
BEGIN:STANDARD
TZOFFSETFROM:+0200
TZOFFSETTO:+0100
TZNAME:CET
DTSTART:20241027T010000
END:STANDARD
BEGIN:DAYLIGHT
TZOFFSETFROM:+0100
TZOFFSETTO:+0200
TZNAME:CEST
DTSTART:20250330T010000
END:DAYLIGHT
BEGIN:STANDARD
TZOFFSETFROM:+0200
TZOFFSETTO:+0100
TZNAME:CET
DTSTART:20251026T010000
END:STANDARD
END:VTIMEZONE
BEGIN:VEVENT
DTSTART;TZID=Europe/Berlin:20250823T100000
DTEND;TZID=Europe/Berlin:20250823T120000
DTSTAMP:20260421T214018
CREATED:20250410T172712Z
LAST-MODIFIED:20250410T172714Z
UID:2437-1755943200-1755950400@christen-in-mittweida.de
SUMMARY:Friedhofscafe auf dem Neuen Friedhof
DESCRIPTION:
URL:https://christen-in-mittweida.de/event/friedhofscafe-auf-dem-neuen-friedhof-4/
LOCATION:Friedhof Mittweida\, Chemnitzer Straße 45a\, Mittweida
CATEGORIES:Gemeindeübergreifend
ATTACH;FMTTYPE=image/jpeg:https://christen-in-mittweida.de/wp-content/uploads/2025/04/Friedhofscafe-2025.jpg
END:VEVENT
BEGIN:VEVENT
DTSTART;TZID=Europe/Berlin:20250628T100000
DTEND;TZID=Europe/Berlin:20250628T120000
DTSTAMP:20260421T214018
CREATED:20250410T172623Z
LAST-MODIFIED:20250410T172625Z
UID:2435-1751104800-1751112000@christen-in-mittweida.de
SUMMARY:Friedhofscafe auf dem Neuen Friedhof
DESCRIPTION:
URL:https://christen-in-mittweida.de/event/friedhofscafe-auf-dem-neuen-friedhof-3/
LOCATION:Friedhof Mittweida\, Chemnitzer Straße 45a\, Mittweida
CATEGORIES:Gemeindeübergreifend
ATTACH;FMTTYPE=image/jpeg:https://christen-in-mittweida.de/wp-content/uploads/2025/04/Friedhofscafe-2025.jpg
END:VEVENT
BEGIN:VEVENT
DTSTART;TZID=Europe/Berlin:20250525T170000
DTEND;TZID=Europe/Berlin:20250525T180000
DTSTAMP:20260421T214018
CREATED:20250430T134353Z
LAST-MODIFIED:20250430T134355Z
UID:2445-1748192400-1748196000@christen-in-mittweida.de
SUMMARY:Themen-Gottesdienst
DESCRIPTION:Thema: Würdevoll leben – Predigt: Frank Vogt
URL:https://christen-in-mittweida.de/event/themen-gottesdienst-5/
LOCATION:Lutherhaus\, Landeskirchliche Gemeinschaft (LKG) Mittweida - Lutherhaus\, Mittweida\, 09648\, Deutschland
CATEGORIES:Landeskirchliche Gemeinschaft
ATTACH;FMTTYPE=image/jpeg:https://christen-in-mittweida.de/wp-content/uploads/2025/04/Godi-2025_05.jpg
END:VEVENT
BEGIN:VEVENT
DTSTART;TZID=Europe/Berlin:20250524T100000
DTEND;TZID=Europe/Berlin:20250524T120000
DTSTAMP:20260421T214018
CREATED:20250410T172531Z
LAST-MODIFIED:20250410T172533Z
UID:2433-1748080800-1748088000@christen-in-mittweida.de
SUMMARY:Friedhofscafe auf dem Neuen Friedhof
DESCRIPTION:
URL:https://christen-in-mittweida.de/event/friedhofscafe-auf-dem-neuen-friedhof-2/
LOCATION:Friedhof Mittweida\, Chemnitzer Straße 45a\, Mittweida
CATEGORIES:Gemeindeübergreifend
ATTACH;FMTTYPE=image/jpeg:https://christen-in-mittweida.de/wp-content/uploads/2025/04/Friedhofscafe-2025.jpg
END:VEVENT
BEGIN:VEVENT
DTSTART;TZID=Europe/Berlin:20250515T200000
DTEND;TZID=Europe/Berlin:20250515T210000
DTSTAMP:20260421T214018
CREATED:20250210T210529Z
LAST-MODIFIED:20250430T132111Z
UID:2298-1747339200-1747342800@christen-in-mittweida.de
SUMMARY:Theodizee - Warum lässt Gott Leid zu? - Gemeindeabend
DESCRIPTION:
URL:https://christen-in-mittweida.de/event/theodizee-warum-laesst-gott-leid-zu-gemeindeabend-2/
LOCATION:Evangelische Freikirche\, Tzschirnerpl. 9A\, Mittweida\, 09648\, Deutschland
CATEGORIES:Evangelische Freikirche
END:VEVENT
BEGIN:VEVENT
DTSTART;TZID=Europe/Berlin:20250509T190000
DTEND;TZID=Europe/Berlin:20250509T210000
DTSTAMP:20260421T214018
CREATED:20250430T134139Z
LAST-MODIFIED:20250430T134142Z
UID:2442-1746817200-1746824400@christen-in-mittweida.de
SUMMARY:Schlemmerabend mit Musik-Duo Reinhard und Franziska Haucke
DESCRIPTION:
URL:https://christen-in-mittweida.de/event/schlemmerabend-mit-musik-duo-reinhard-und-franziska-haucke/
CATEGORIES:Landeskirchliche Gemeinschaft
ATTACH;FMTTYPE=image/jpeg:https://christen-in-mittweida.de/wp-content/uploads/2025/04/Schlemmer-Mai-25.jpg
END:VEVENT
BEGIN:VEVENT
DTSTART;TZID=Europe/Berlin:20250508T200000
DTEND;TZID=Europe/Berlin:20250508T210000
DTSTAMP:20260421T214018
CREATED:20250210T210441Z
LAST-MODIFIED:20250430T132041Z
UID:2296-1746734400-1746738000@christen-in-mittweida.de
SUMMARY:Theodizee - Warum lässt Gott Leid zu? - Gemeindeabend
DESCRIPTION:
URL:https://christen-in-mittweida.de/event/theodizee-warum-laesst-gott-leid-zu-gemeindeabend/
LOCATION:Evangelische Freikirche\, Tzschirnerpl. 9A\, Mittweida\, 09648\, Deutschland
CATEGORIES:Evangelische Freikirche
END:VEVENT
BEGIN:VEVENT
DTSTART;TZID=Europe/Berlin:20250427T170000
DTEND;TZID=Europe/Berlin:20250427T180000
DTSTAMP:20260421T214018
CREATED:20250331T203710Z
LAST-MODIFIED:20250331T203754Z
UID:2419-1745773200-1745776800@christen-in-mittweida.de
SUMMARY:Themen-Gottesdienst
DESCRIPTION:Thema: Ich seh etwas\, was du nicht siehstPredigt: Thomas Lehmann
URL:https://christen-in-mittweida.de/event/themen-gottesdienst-4/
LOCATION:Lutherhaus\, Landeskirchliche Gemeinschaft (LKG) Mittweida - Lutherhaus\, Mittweida\, 09648\, Deutschland
CATEGORIES:Landeskirchliche Gemeinschaft
ATTACH;FMTTYPE=image/jpeg:https://christen-in-mittweida.de/wp-content/uploads/2025/03/Godi-2025_04.jpg
END:VEVENT
BEGIN:VEVENT
DTSTART;TZID=Europe/Berlin:20250426T100000
DTEND;TZID=Europe/Berlin:20250426T120000
DTSTAMP:20260421T214018
CREATED:20250410T172256Z
LAST-MODIFIED:20250410T172403Z
UID:2430-1745661600-1745668800@christen-in-mittweida.de
SUMMARY:Friedhofscafe auf dem Neuen Friedhof
DESCRIPTION:
URL:https://christen-in-mittweida.de/event/friedhofscafe-auf-dem-neuen-friedhof/
LOCATION:Friedhof Mittweida\, Chemnitzer Straße 45a\, Mittweida
CATEGORIES:Gemeindeübergreifend
ATTACH;FMTTYPE=image/jpeg:https://christen-in-mittweida.de/wp-content/uploads/2025/04/Friedhofscafe-2025.jpg
END:VEVENT
BEGIN:VEVENT
DTSTART;TZID=Europe/Berlin:20250424T193000
DTEND;TZID=Europe/Berlin:20250424T210000
DTSTAMP:20260421T214018
CREATED:20250210T210259Z
LAST-MODIFIED:20250214T181343Z
UID:2294-1745523000-1745528400@christen-in-mittweida.de
SUMMARY:Adonia - Mose
DESCRIPTION:
URL:https://christen-in-mittweida.de/event/adonia-mose/
LOCATION:Sporthalle am Schwanenteich\, Leipziger Str. 15\, Mittweida\, 09648\, Deutschland
CATEGORIES:Evangelische Freikirche
ATTACH;FMTTYPE=image/jpeg:https://christen-in-mittweida.de/wp-content/uploads/2025/02/S-T07-2_Mittweida.jpg
END:VEVENT
BEGIN:VEVENT
DTSTART;TZID=Europe/Berlin:20250409T193000
DTEND;TZID=Europe/Berlin:20250409T203000
DTSTAMP:20260421T214018
CREATED:20250331T203527Z
LAST-MODIFIED:20250331T203530Z
UID:2417-1744227000-1744230600@christen-in-mittweida.de
SUMMARY:Buchvorstellung Apokalypsis - Die Enthüllung
DESCRIPTION:
URL:https://christen-in-mittweida.de/event/buchvorstellung-apokalypsis-die-enthuellung/
LOCATION:Lutherhaus\, Landeskirchliche Gemeinschaft (LKG) Mittweida - Lutherhaus\, Mittweida\, 09648\, Deutschland
CATEGORIES:Landeskirchliche Gemeinschaft
ATTACH;FMTTYPE=image/jpeg:https://christen-in-mittweida.de/wp-content/uploads/2025/03/Buchlesung_250409_A5.jpg
END:VEVENT
BEGIN:VEVENT
DTSTART;TZID=Europe/Berlin:20250330T170000
DTEND;TZID=Europe/Berlin:20250330T180000
DTSTAMP:20260421T214018
CREATED:20250210T205822Z
LAST-MODIFIED:20250210T205824Z
UID:2289-1743354000-1743357600@christen-in-mittweida.de
SUMMARY:Konzert für Orgel\, Flügel & Tuba
DESCRIPTION:Tasten & Tuba – Werke von Bach\, Händel u.a.
URL:https://christen-in-mittweida.de/event/konzert-fuer-orgel-fluegel-tuba/
LOCATION:Stadtkirche\, Stadtkirche\, Mittweida\, 09648\, Deutschland
CATEGORIES:Evangelische Kirche
ATTACH;FMTTYPE=image/jpeg:https://christen-in-mittweida.de/wp-content/uploads/2025/02/Laetare2025-Poster-1-768x1086-1.jpg
END:VEVENT
BEGIN:VEVENT
DTSTART;TZID=Europe/Berlin:20250306T190000
DTEND;TZID=Europe/Berlin:20250306T200000
DTSTAMP:20260421T214018
CREATED:20250210T210047Z
LAST-MODIFIED:20250210T210049Z
UID:2291-1741287600-1741291200@christen-in-mittweida.de
SUMMARY:Die Guttat zu salben - Gemeindeabend mit Pf. Roland Kutsche
DESCRIPTION:Gottes vergessene Sprache der Liebe an kranke Menschen
URL:https://christen-in-mittweida.de/event/die-guttat-zu-salben-gemeindeabend-mit-pf-roland-kutsche/
LOCATION:Stadtkirche\, Stadtkirche\, Mittweida\, 09648\, Deutschland
CATEGORIES:Evangelische Kirche
ATTACH;FMTTYPE=image/jpeg:https://christen-in-mittweida.de/wp-content/uploads/2025/02/Plakat-Krankensalbung-06032025-1-768x543-1.jpg
END:VEVENT
BEGIN:VEVENT
DTSTART;TZID=Europe/Berlin:20250305T080000
DTEND;TZID=Europe/Berlin:20250420T170000
DTSTAMP:20260421T214018
CREATED:20250210T205234Z
LAST-MODIFIED:20250214T182908Z
UID:2283-1741161600-1745168400@christen-in-mittweida.de
SUMMARY:Altarverhüllung  - Intervention zur Passion
DESCRIPTION:Vernissage und Andacht am Mittwoch\, dem 5. März 18 Uhr / \nAndachten jeden Mittwoch 18:15 Uhr / \nOstersonntag – Enthüllung und Abschlussgottesdienst
URL:https://christen-in-mittweida.de/event/altarverhuellung-intervention-zur-passion/
LOCATION:Stadtkirche\, Stadtkirche\, Mittweida\, 09648\, Deutschland
CATEGORIES:Evangelische Kirche
ATTACH;FMTTYPE=image/jpeg:https://christen-in-mittweida.de/wp-content/uploads/2025/02/Altarverhuellung.jpg
END:VEVENT
BEGIN:VEVENT
DTSTART;TZID=Europe/Berlin:20250303T110000
DTEND;TZID=Europe/Berlin:20250303T123000
DTSTAMP:20260421T214018
CREATED:20250210T204501Z
LAST-MODIFIED:20250210T204741Z
UID:2276-1740999600-1741005000@christen-in-mittweida.de
SUMMARY:Bibelarbeit zum Thema Heilsgewissheit mit Pastor Olaf Latzel
DESCRIPTION:Wann kann ich meines Heils gewiss sein? Kann ich mein Heil wieder verlieren? Wann gibt es keinen Weg zurück zum Heil?
URL:https://christen-in-mittweida.de/event/bibelarbeit-mit-pastor-olaf-latzel/
LOCATION:Lutherhaus\, Landeskirchliche Gemeinschaft (LKG) Mittweida - Lutherhaus\, Mittweida\, 09648\, Deutschland
CATEGORIES:Landeskirchliche Gemeinschaft
ATTACH;FMTTYPE=image/jpeg:https://christen-in-mittweida.de/wp-content/uploads/2025/02/Latzel_flyer_Entwurf.jpg
END:VEVENT
BEGIN:VEVENT
DTSTART;TZID=Europe/Berlin:20250223T170000
DTEND;TZID=Europe/Berlin:20250223T180000
DTSTAMP:20260421T214018
CREATED:20250214T181004Z
LAST-MODIFIED:20250215T223814Z
UID:2312-1740330000-1740333600@christen-in-mittweida.de
SUMMARY:Musik-Gottesdienst mit Lutz Scheufler
DESCRIPTION:HOFFNUNG – wenn die Zukunft finster ist
URL:https://christen-in-mittweida.de/event/musik-gottesdienst-mit-lutz-scheufler/
LOCATION:Lutherhaus\, Landeskirchliche Gemeinschaft (LKG) Mittweida - Lutherhaus\, Mittweida\, 09648\, Deutschland
CATEGORIES:Landeskirchliche Gemeinschaft
ATTACH;FMTTYPE=image/jpeg:https://christen-in-mittweida.de/wp-content/uploads/2025/02/Godi-2025_02.jpg
END:VEVENT
BEGIN:VEVENT
DTSTART;TZID=Europe/Berlin:20250209T080000
DTEND;TZID=Europe/Berlin:20250223T170000
DTSTAMP:20260421T214018
CREATED:20250210T204204Z
LAST-MODIFIED:20250210T204207Z
UID:2274-1739088000-1740330000@christen-in-mittweida.de
SUMMARY:Ausstellung zum Täufergedenken
DESCRIPTION:500 Jahre Mut und Glauben: Die Geschichte der Täuferbewegung
URL:https://christen-in-mittweida.de/event/ausstellung-zum-taeufergedenken/
LOCATION:Evangelische Freikirche\, Tzschirnerpl. 9A\, Mittweida\, 09648\, Deutschland
CATEGORIES:Evangelische Freikirche
ATTACH;FMTTYPE=image/jpeg:https://christen-in-mittweida.de/wp-content/uploads/2025/02/taeufer-1.jpg
END:VEVENT
BEGIN:VEVENT
DTSTART;TZID=Europe/Berlin:20250119T103000
DTEND;TZID=Europe/Berlin:20250119T113000
DTSTAMP:20260421T214019
CREATED:20230923T082252Z
LAST-MODIFIED:20250101T131707Z
UID:1483-1737282600-1737286200@christen-in-mittweida.de
SUMMARY:Abschlussgottesdienst der Allianzgebetswoche
DESCRIPTION:
URL:https://christen-in-mittweida.de/event/abschlussgottesdienst-der-allianzgebetswoche-2/
LOCATION:Lutherhaus\, Landeskirchliche Gemeinschaft (LKG) Mittweida - Lutherhaus\, Mittweida\, 09648\, Deutschland
CATEGORIES:Gemeindeübergreifend
END:VEVENT
BEGIN:VEVENT
DTSTART;TZID=Europe/Berlin:20250116T193000
DTEND;TZID=Europe/Berlin:20250116T203000
DTSTAMP:20260421T214019
CREATED:20230923T082624Z
LAST-MODIFIED:20250101T131546Z
UID:1486-1737055800-1737059400@christen-in-mittweida.de
SUMMARY:Allianzgebetswoche in der Stadtkirche
DESCRIPTION:
URL:https://christen-in-mittweida.de/event/allianzgebetswoche-in-der-stadtkirche-3/
LOCATION:Stadtkirche\, Stadtkirche\, Mittweida\, 09648\, Deutschland
CATEGORIES:Gemeindeübergreifend
END:VEVENT
BEGIN:VEVENT
DTSTART;TZID=Europe/Berlin:20250115T193000
DTEND;TZID=Europe/Berlin:20250115T203000
DTSTAMP:20260421T214019
CREATED:20230923T082109Z
LAST-MODIFIED:20250101T131508Z
UID:1479-1736969400-1736973000@christen-in-mittweida.de
SUMMARY:Allianzgebetswoche im Lutherhaus
DESCRIPTION:
URL:https://christen-in-mittweida.de/event/allianzgebetswoche-im-lutherhaus-2/
LOCATION:Lutherhaus\, Landeskirchliche Gemeinschaft (LKG) Mittweida - Lutherhaus\, Mittweida\, 09648\, Deutschland
CATEGORIES:Gemeindeübergreifend
END:VEVENT
BEGIN:VEVENT
DTSTART;TZID=Europe/Berlin:20250114T193000
DTEND;TZID=Europe/Berlin:20250114T203000
DTSTAMP:20260421T214019
CREATED:20230923T082026Z
LAST-MODIFIED:20250101T131417Z
UID:1477-1736883000-1736886600@christen-in-mittweida.de
SUMMARY:Allianzgebetswoche in der Adventgemeinde
DESCRIPTION:
URL:https://christen-in-mittweida.de/event/allianzgebetswoche-in-der-adventgemeinde-2/
LOCATION:Adventgemeinde\, Freiberger Str. 15\, Mittweida\, 09648\, Deutschland
CATEGORIES:Gemeindeübergreifend
END:VEVENT
BEGIN:VEVENT
DTSTART;TZID=Europe/Berlin:20250113T193000
DTEND;TZID=Europe/Berlin:20250113T203000
DTSTAMP:20260421T214019
CREATED:20230923T081404Z
LAST-MODIFIED:20250101T131323Z
UID:1471-1736796600-1736800200@christen-in-mittweida.de
SUMMARY:Allianzgebetswoche in der Ev. Freikirche
DESCRIPTION:
URL:https://christen-in-mittweida.de/event/allianzgebetswoche-in-der-stadtkirche-2-2/
LOCATION:Evangelische Freikirche\, Tzschirnerpl. 9A\, Mittweida\, 09648\, Deutschland
CATEGORIES:Gemeindeübergreifend
END:VEVENT
BEGIN:VEVENT
DTSTART;TZID=Europe/Berlin:20241025T193000
DTEND;TZID=Europe/Berlin:20241025T203000
DTSTAMP:20260421T214019
CREATED:20240901T131955Z
LAST-MODIFIED:20240901T132147Z
UID:1944-1729884600-1729888200@christen-in-mittweida.de
SUMMARY:Ökumenische Bibelwoche in der Adventgemeinde
DESCRIPTION:
URL:https://christen-in-mittweida.de/event/oekumenische-bibelwoche-in-der-adventgemeinde-2/
LOCATION:Adventgemeinde\, Freiberger Str. 15\, Mittweida\, 09648\, Deutschland
ATTACH;FMTTYPE=image/png:https://christen-in-mittweida.de/wp-content/uploads/2024/09/Bild_2024-09-01_151552752.png
END:VEVENT
BEGIN:VEVENT
DTSTART;TZID=Europe/Berlin:20241024T193000
DTEND;TZID=Europe/Berlin:20241024T203000
DTSTAMP:20260421T214019
CREATED:20240901T131903Z
LAST-MODIFIED:20240901T132119Z
UID:1942-1729798200-1729801800@christen-in-mittweida.de
SUMMARY:Ökumenische Bibelwoche in der Evangelischen Freikirche
DESCRIPTION:
URL:https://christen-in-mittweida.de/event/oekumenische-bibelwoche-in-der-evangelischen-freikirche/
LOCATION:Evangelische Freikirche\, Tzschirnerpl. 9A\, Mittweida\, 09648\, Deutschland
ATTACH;FMTTYPE=image/png:https://christen-in-mittweida.de/wp-content/uploads/2024/09/Bild_2024-09-01_151552752.png
END:VEVENT
BEGIN:VEVENT
DTSTART;TZID=Europe/Berlin:20241023T193000
DTEND;TZID=Europe/Berlin:20241023T203000
DTSTAMP:20260421T214019
CREATED:20240901T131819Z
LAST-MODIFIED:20240901T132030Z
UID:1940-1729711800-1729715400@christen-in-mittweida.de
SUMMARY:Ökumenische Bibelwoche in der Landeskirchlichen Gemeinschaft
DESCRIPTION:
URL:https://christen-in-mittweida.de/event/oekumenische-bibelwoche-in-der-landeskirchlichen-gemeinschaft/
LOCATION:Landeskirchliche Gemeinschaft\, Lauenhainer Str. 3 A\, Mittweida\, 09648
ATTACH;FMTTYPE=image/png:https://christen-in-mittweida.de/wp-content/uploads/2024/09/Bild_2024-09-01_151552752.png
END:VEVENT
BEGIN:VEVENT
DTSTART;TZID=Europe/Berlin:20241022T193000
DTEND;TZID=Europe/Berlin:20241022T203000
DTSTAMP:20260421T214019
CREATED:20240901T131730Z
LAST-MODIFIED:20240901T131732Z
UID:1938-1729625400-1729629000@christen-in-mittweida.de
SUMMARY:Ökumenische Bibelwoche in der Katholischen Kirche
DESCRIPTION:
URL:https://christen-in-mittweida.de/event/oekumenische-bibelwoche-in-der-katholischen-kirche/
LOCATION:Katholische Kirche\, Damaschkestr. 1\, Mittweida\, 09648\, Deutschland
ATTACH;FMTTYPE=image/png:https://christen-in-mittweida.de/wp-content/uploads/2024/09/Bild_2024-09-01_151552752.png
END:VEVENT
BEGIN:VEVENT
DTSTART;TZID=Europe/Berlin:20241021T193000
DTEND;TZID=Europe/Berlin:20241021T203000
DTSTAMP:20260421T214019
CREATED:20240901T131618Z
LAST-MODIFIED:20240901T131619Z
UID:1935-1729539000-1729542600@christen-in-mittweida.de
SUMMARY:Ökumenische Bibelwoche in der Stadtkirche
DESCRIPTION:
URL:https://christen-in-mittweida.de/event/oekumenische-bibelwoche-in-der-stadtkirche-2/
LOCATION:Stadtkirche\, Stadtkirche\, Mittweida\, 09648\, Deutschland
CATEGORIES:Gemeindeübergreifend
ATTACH;FMTTYPE=image/png:https://christen-in-mittweida.de/wp-content/uploads/2024/09/Bild_2024-09-01_151552752.png
END:VEVENT
BEGIN:VEVENT
DTSTART;TZID=Europe/Berlin:20241013T103000
DTEND;TZID=Europe/Berlin:20241013T110000
DTSTAMP:20260421T214019
CREATED:20240901T124808Z
LAST-MODIFIED:20240901T124809Z
UID:1926-1728815400-1728817200@christen-in-mittweida.de
SUMMARY:Motorradfahrer-Gottesdienst auf dem Marktplatz
DESCRIPTION:Predigt: Stefan MarkusMusik: The Pipes
URL:https://christen-in-mittweida.de/event/motorradfahrer-gottesdienst-auf-dem-marktplatz/
LOCATION:Markplatz\, Markt\, Mittweida\, 09648
ATTACH;FMTTYPE=image/jpeg:https://christen-in-mittweida.de/wp-content/uploads/2024/09/Mogo.jpeg
END:VEVENT
BEGIN:VEVENT
DTSTART;TZID=Europe/Berlin:20240922T170000
DTEND;TZID=Europe/Berlin:20240922T180000
DTSTAMP:20260421T214019
CREATED:20240901T124325Z
LAST-MODIFIED:20240901T124326Z
UID:1921-1727024400-1727028000@christen-in-mittweida.de
SUMMARY:Themen-Gottesdienst "Wenn dir das Wasser bis zum Hals steht..."
DESCRIPTION:Predigt: Rainer Bauer
URL:https://christen-in-mittweida.de/event/themen-gottesdienst-wenn-dir-das-wasser-bis-zum-hals-steht/
LOCATION:Landeskirchliche Gemeinschaft\, Lauenhainer Str. 3 A\, Mittweida\, 09648
CATEGORIES:Landeskirchliche Gemeinschaft
ATTACH;FMTTYPE=image/jpeg:https://christen-in-mittweida.de/wp-content/uploads/2024/09/Godi_2024_09.jpg
END:VEVENT
BEGIN:VEVENT
DTSTART;TZID=Europe/Berlin:20240915T183000
DTEND;TZID=Europe/Berlin:20240915T200000
DTSTAMP:20260421T214019
CREATED:20240901T124115Z
LAST-MODIFIED:20240901T124117Z
UID:1919-1726425000-1726430400@christen-in-mittweida.de
SUMMARY:Open Air Konzert
DESCRIPTION:mit der amerikanischen Singer-Songwriterin Mindy Boyd
URL:https://christen-in-mittweida.de/event/open-air-konzert/
LOCATION:Evangelische Freikirche\, Tzschirnerpl. 9A\, Mittweida\, 09648\, Deutschland
ATTACH;FMTTYPE=image/jpeg:https://christen-in-mittweida.de/wp-content/uploads/2024/08/NdoK-2024-15.09.-Mindy-Boyd.jpg
END:VEVENT
END:VCALENDAR