BEGIN:VCALENDAR
VERSION:2.0
PRODID:-//Christen in Mittweida - ECPv6.10.1.1//NONSGML v1.0//EN
CALSCALE:GREGORIAN
METHOD:PUBLISH
X-WR-CALNAME:Christen in Mittweida
X-ORIGINAL-URL:https://christen-in-mittweida.de
X-WR-CALDESC:Veranstaltungen für Christen in Mittweida
REFRESH-INTERVAL;VALUE=DURATION:PT1H
X-Robots-Tag:noindex
X-PUBLISHED-TTL:PT1H
BEGIN:VTIMEZONE
TZID:Europe/Berlin
BEGIN:DAYLIGHT
TZOFFSETFROM:+0100
TZOFFSETTO:+0200
TZNAME:CEST
DTSTART:20240331T010000
END:DAYLIGHT
BEGIN:STANDARD
TZOFFSETFROM:+0200
TZOFFSETTO:+0100
TZNAME:CET
DTSTART:20241027T010000
END:STANDARD
END:VTIMEZONE
BEGIN:VEVENT
DTSTART;TZID=Europe/Berlin:20240915T163000
DTEND;TZID=Europe/Berlin:20240915T180000
DTSTAMP:20260422T185157
CREATED:20240901T123731Z
LAST-MODIFIED:20240901T123732Z
UID:1913-1726417800-1726423200@christen-in-mittweida.de
SUMMARY:Konzert und Lesung mit Helmut "Joe" Sachse und Gisela Dietz
DESCRIPTION:im Rahmen des Tags des Friedhofs
URL:https://christen-in-mittweida.de/event/konzert-und-lesung-mit-helmut-joe-sachse-und-gisela-dietz/
LOCATION:Friedhof Mittweida\, Chemnitzer Straße 45a\, Mittweida
ATTACH;FMTTYPE=image/jpeg:https://christen-in-mittweida.de/wp-content/uploads/2024/08/NdoK-2024-15.09.-Friedhof.jpg
END:VEVENT
BEGIN:VEVENT
DTSTART;TZID=Europe/Berlin:20240915T170000
DTEND;TZID=Europe/Berlin:20240915T180000
DTSTAMP:20260422T185157
CREATED:20240901T123927Z
LAST-MODIFIED:20240901T123928Z
UID:1917-1726419600-1726423200@christen-in-mittweida.de
SUMMARY:"Musik\, du himmlisches Gebilde" - Chormusik aus fünf Jahrhunderten
DESCRIPTION:mit dem Männerchor Die Hochfichten
URL:https://christen-in-mittweida.de/event/musik-du-himmlisches-gebilde-chormusik-aus-fuenf-jahrhunderten/
LOCATION:Stadtkirche\, Stadtkirche\, Mittweida\, 09648\, Deutschland
ATTACH;FMTTYPE=image/jpeg:https://christen-in-mittweida.de/wp-content/uploads/2024/08/NdoK-2024-15.09.-Die-Hochfichten.jpg
END:VEVENT
BEGIN:VEVENT
DTSTART;TZID=Europe/Berlin:20240915T183000
DTEND;TZID=Europe/Berlin:20240915T200000
DTSTAMP:20260422T185157
CREATED:20240901T124115Z
LAST-MODIFIED:20240901T124117Z
UID:1919-1726425000-1726430400@christen-in-mittweida.de
SUMMARY:Open Air Konzert
DESCRIPTION:mit der amerikanischen Singer-Songwriterin Mindy Boyd
URL:https://christen-in-mittweida.de/event/open-air-konzert/
LOCATION:Evangelische Freikirche\, Tzschirnerpl. 9A\, Mittweida\, 09648\, Deutschland
ATTACH;FMTTYPE=image/jpeg:https://christen-in-mittweida.de/wp-content/uploads/2024/08/NdoK-2024-15.09.-Mindy-Boyd.jpg
END:VEVENT
END:VCALENDAR