BEGIN:VCALENDAR
VERSION:2.0
PRODID:-//Christen in Mittweida - ECPv6.10.1.1//NONSGML v1.0//EN
CALSCALE:GREGORIAN
METHOD:PUBLISH
X-WR-CALNAME:Christen in Mittweida
X-ORIGINAL-URL:https://christen-in-mittweida.de
X-WR-CALDESC:Veranstaltungen für Christen in Mittweida
REFRESH-INTERVAL;VALUE=DURATION:PT1H
X-Robots-Tag:noindex
X-PUBLISHED-TTL:PT1H
BEGIN:VTIMEZONE
TZID:Europe/Berlin
BEGIN:DAYLIGHT
TZOFFSETFROM:+0100
TZOFFSETTO:+0200
TZNAME:CEST
DTSTART:20240331T010000
END:DAYLIGHT
BEGIN:STANDARD
TZOFFSETFROM:+0200
TZOFFSETTO:+0100
TZNAME:CET
DTSTART:20241027T010000
END:STANDARD
END:VTIMEZONE
BEGIN:VEVENT
DTSTART;TZID=Europe/Berlin:20240913T180000
DTEND;TZID=Europe/Berlin:20240913T193000
DTSTAMP:20260422T184239
CREATED:20240901T123133Z
LAST-MODIFIED:20240901T131049Z
UID:1909-1726250400-1726255800@christen-in-mittweida.de
SUMMARY:Nachtwächterführung in Ringethal
DESCRIPTION:mit Michael Kreskowsky
URL:https://christen-in-mittweida.de/event/nachtwaechterfuehrung-in-ringethal/
LOCATION:Kirche Ringethal\, Hauptstraße\, Ringethal
ATTACH;FMTTYPE=image/jpeg:https://christen-in-mittweida.de/wp-content/uploads/2024/08/NdoK-2024-13.-14.09.-Nachtwaechter.jpg
END:VEVENT
BEGIN:VEVENT
DTSTART;TZID=Europe/Berlin:20240913T200000
DTEND;TZID=Europe/Berlin:20240913T210000
DTSTAMP:20260422T184239
CREATED:20240901T121812Z
LAST-MODIFIED:20240901T121813Z
UID:1891-1726257600-1726261200@christen-in-mittweida.de
SUMMARY:Let's talk about ... Sterbehilfe
DESCRIPTION:Themenabend mit dem Richter Jan Schuler und dem Pastor Thomas Wenk
URL:https://christen-in-mittweida.de/event/lets-talk-about-sterbehilfe/
LOCATION:Evangelische Freikirche\, Tzschirnerpl. 9A\, Mittweida\, 09648\, Deutschland
ATTACH;FMTTYPE=image/jpeg:https://christen-in-mittweida.de/wp-content/uploads/2024/08/NdoK-2024-13.-14.09.-Talk.jpg
END:VEVENT
BEGIN:VEVENT
DTSTART;TZID=Europe/Berlin:20240913T200000
DTEND;TZID=Europe/Berlin:20240913T213000
DTSTAMP:20260422T184239
CREATED:20240901T121523Z
LAST-MODIFIED:20240901T121557Z
UID:1887-1726257600-1726263000@christen-in-mittweida.de
SUMMARY:Konzert "Gospel verbindet"
DESCRIPTION:mit Gospel Changes aus Leipzig
URL:https://christen-in-mittweida.de/event/konzert-gospel-verbindet/
LOCATION:Dorfkirche Altmittweida\, Kirchstraße\, Altmittweida
ATTACH;FMTTYPE=image/jpeg:https://christen-in-mittweida.de/wp-content/uploads/2024/08/NdoK-2024-13.09.-Gospel.jpg
END:VEVENT
END:VCALENDAR