BEGIN:VCALENDAR
VERSION:2.0
PRODID:-//Christen in Mittweida - ECPv6.10.1.1//NONSGML v1.0//EN
CALSCALE:GREGORIAN
METHOD:PUBLISH
X-ORIGINAL-URL:https://christen-in-mittweida.de
X-WR-CALDESC:Veranstaltungen für Christen in Mittweida
REFRESH-INTERVAL;VALUE=DURATION:PT1H
X-Robots-Tag:noindex
X-PUBLISHED-TTL:PT1H
BEGIN:VTIMEZONE
TZID:Europe/Berlin
BEGIN:DAYLIGHT
TZOFFSETFROM:+0100
TZOFFSETTO:+0200
TZNAME:CEST
DTSTART:20240331T010000
END:DAYLIGHT
BEGIN:STANDARD
TZOFFSETFROM:+0200
TZOFFSETTO:+0100
TZNAME:CET
DTSTART:20241027T010000
END:STANDARD
END:VTIMEZONE
BEGIN:VEVENT
DTSTART;TZID=Europe/Berlin:20240112T193000
DTEND;TZID=Europe/Berlin:20240112T203000
DTSTAMP:20260423T051242
CREATED:20230923T082201Z
LAST-MODIFIED:20230923T082500Z
UID:1481-1705087800-1705091400@christen-in-mittweida.de
SUMMARY:Allianzgebetswoche in Ev. Freikirche (Jugendarbeit)
DESCRIPTION:
URL:https://christen-in-mittweida.de/event/allianzgebetswoche-in-ev-freikirche-jugendarbeit/
LOCATION:Evangelische Freikirche\, Tzschirnerpl. 9A\, Mittweida\, 09648\, Deutschland
CATEGORIES:Gemeindeübergreifend
END:VEVENT
END:VCALENDAR