BEGIN:VCALENDAR
VERSION:2.0
PRODID:-//Christen in Mittweida - ECPv6.10.1.1//NONSGML v1.0//EN
CALSCALE:GREGORIAN
METHOD:PUBLISH
X-WR-CALNAME:Christen in Mittweida
X-ORIGINAL-URL:https://christen-in-mittweida.de
X-WR-CALDESC:Veranstaltungen für Christen in Mittweida
REFRESH-INTERVAL;VALUE=DURATION:PT1H
X-Robots-Tag:noindex
X-PUBLISHED-TTL:PT1H
BEGIN:VTIMEZONE
TZID:Europe/Berlin
BEGIN:DAYLIGHT
TZOFFSETFROM:+0100
TZOFFSETTO:+0200
TZNAME:CEST
DTSTART:20230326T010000
END:DAYLIGHT
BEGIN:STANDARD
TZOFFSETFROM:+0200
TZOFFSETTO:+0100
TZNAME:CET
DTSTART:20231029T010000
END:STANDARD
END:VTIMEZONE
BEGIN:VEVENT
DTSTART;TZID=Europe/Berlin:20231215T193000
DTEND;TZID=Europe/Berlin:20231215T210000
DTSTAMP:20260423T062627
CREATED:20231129T165127Z
LAST-MODIFIED:20231129T165336Z
UID:1510-1702668600-1702674000@christen-in-mittweida.de
SUMMARY:Die Nacht ist vorgedrungen
DESCRIPTION:Klavier-Impressionen traditioneller Advents- und Weihnachtslieder von Michael Schubach
URL:https://christen-in-mittweida.de/event/die-nacht-ist-vorgedrungen/
LOCATION:Evangelische Freikirche\, Tzschirnerpl. 9A\, Mittweida\, 09648\, Deutschland
CATEGORIES:Evangelische Freikirche
ATTACH;FMTTYPE=image/png:https://christen-in-mittweida.de/wp-content/uploads/2023/11/Bild_2023-11-29_175259916.png
END:VEVENT
END:VCALENDAR