BEGIN:VCALENDAR
VERSION:2.0
PRODID:-//Christen in Mittweida - ECPv6.10.1.1//NONSGML v1.0//EN
CALSCALE:GREGORIAN
METHOD:PUBLISH
X-ORIGINAL-URL:https://christen-in-mittweida.de
X-WR-CALDESC:Veranstaltungen für Christen in Mittweida
REFRESH-INTERVAL;VALUE=DURATION:PT1H
X-Robots-Tag:noindex
X-PUBLISHED-TTL:PT1H
BEGIN:VTIMEZONE
TZID:Europe/Berlin
BEGIN:DAYLIGHT
TZOFFSETFROM:+0100
TZOFFSETTO:+0200
TZNAME:CEST
DTSTART:20230326T010000
END:DAYLIGHT
BEGIN:STANDARD
TZOFFSETFROM:+0200
TZOFFSETTO:+0100
TZNAME:CET
DTSTART:20231029T010000
END:STANDARD
END:VTIMEZONE
BEGIN:VEVENT
DTSTART;TZID=Europe/Berlin:20231124T170000
DTEND;TZID=Europe/Berlin:20231124T190000
DTSTAMP:20260423T073546
CREATED:20231111T215601Z
LAST-MODIFIED:20231111T215605Z
UID:1500-1700845200-1700852400@christen-in-mittweida.de
SUMMARY:Film Real Life Philipp Mickenbecker
DESCRIPTION:Filmbühne Mittweida
URL:https://christen-in-mittweida.de/event/film-real-life-philipp-mickenbecker/
END:VEVENT
END:VCALENDAR