BEGIN:VCALENDAR
VERSION:2.0
PRODID:-//Christen in Mittweida - ECPv6.10.1.1//NONSGML v1.0//EN
CALSCALE:GREGORIAN
METHOD:PUBLISH
X-WR-CALNAME:Christen in Mittweida
X-ORIGINAL-URL:https://christen-in-mittweida.de
X-WR-CALDESC:Veranstaltungen für Christen in Mittweida
REFRESH-INTERVAL;VALUE=DURATION:PT1H
X-Robots-Tag:noindex
X-PUBLISHED-TTL:PT1H
BEGIN:VTIMEZONE
TZID:Europe/Berlin
BEGIN:DAYLIGHT
TZOFFSETFROM:+0100
TZOFFSETTO:+0200
TZNAME:CEST
DTSTART:20230326T010000
END:DAYLIGHT
BEGIN:STANDARD
TZOFFSETFROM:+0200
TZOFFSETTO:+0100
TZNAME:CET
DTSTART:20231029T010000
END:STANDARD
END:VTIMEZONE
BEGIN:VEVENT
DTSTART;TZID=Europe/Berlin:20231017T193000
DTEND;TZID=Europe/Berlin:20231017T203000
DTSTAMP:20260423T084502
CREATED:20230923T080256Z
LAST-MODIFIED:20230923T080259Z
UID:1459-1697571000-1697574600@christen-in-mittweida.de
SUMMARY:Ökumenische Bibelwoche in der Ev. Freikirche
DESCRIPTION:
URL:https://christen-in-mittweida.de/event/oekumenische-bibelwoche-in-der-ev-freikirche/
LOCATION:Evangelische Freikirche\, Tzschirnerpl. 9A\, Mittweida\, 09648\, Deutschland
CATEGORIES:Gemeindeübergreifend
END:VEVENT
END:VCALENDAR