BEGIN:VCALENDAR
VERSION:2.0
PRODID:-//Christen in Mittweida - ECPv6.10.1.1//NONSGML v1.0//EN
CALSCALE:GREGORIAN
METHOD:PUBLISH
X-ORIGINAL-URL:https://christen-in-mittweida.de
X-WR-CALDESC:Veranstaltungen für Christen in Mittweida
REFRESH-INTERVAL;VALUE=DURATION:PT1H
X-Robots-Tag:noindex
X-PUBLISHED-TTL:PT1H
BEGIN:VTIMEZONE
TZID:Europe/Berlin
BEGIN:DAYLIGHT
TZOFFSETFROM:+0100
TZOFFSETTO:+0200
TZNAME:CEST
DTSTART:20230326T010000
END:DAYLIGHT
BEGIN:STANDARD
TZOFFSETFROM:+0200
TZOFFSETTO:+0100
TZNAME:CET
DTSTART:20231029T010000
END:STANDARD
END:VTIMEZONE
BEGIN:VEVENT
DTSTART;TZID=Europe/Berlin:20230129T170000
DTEND;TZID=Europe/Berlin:20230129T180000
DTSTAMP:20260423T215623
CREATED:20230109T072351Z
LAST-MODIFIED:20230109T080350Z
UID:1306-1675011600-1675015200@christen-in-mittweida.de
SUMMARY:Themen-Gottesdienst
DESCRIPTION:Thema: Glaube – gibt’s da auch ‘ne App? \n\n\n\nPredigt: Thomas Lehmann
URL:https://christen-in-mittweida.de/event/themen-gottesdienst-2/
LOCATION:Lutherhaus\, Landeskirchliche Gemeinschaft (LKG) Mittweida - Lutherhaus\, Mittweida\, 09648\, Deutschland
CATEGORIES:Landeskirchliche Gemeinschaft
ATTACH;FMTTYPE=image/jpeg:https://christen-in-mittweida.de/wp-content/uploads/2023/01/Godi-202301.jpg
END:VEVENT
END:VCALENDAR