BEGIN:VCALENDAR
VERSION:2.0
PRODID:-//Christen in Mittweida - ECPv6.10.1.1//NONSGML v1.0//EN
CALSCALE:GREGORIAN
METHOD:PUBLISH
X-WR-CALNAME:Christen in Mittweida
X-ORIGINAL-URL:https://christen-in-mittweida.de
X-WR-CALDESC:Veranstaltungen für Christen in Mittweida
REFRESH-INTERVAL;VALUE=DURATION:PT1H
X-Robots-Tag:noindex
X-PUBLISHED-TTL:PT1H
BEGIN:VTIMEZONE
TZID:Europe/Berlin
BEGIN:DAYLIGHT
TZOFFSETFROM:+0100
TZOFFSETTO:+0200
TZNAME:CEST
DTSTART:20220327T010000
END:DAYLIGHT
BEGIN:STANDARD
TZOFFSETFROM:+0200
TZOFFSETTO:+0100
TZNAME:CET
DTSTART:20221030T010000
END:STANDARD
END:VTIMEZONE
BEGIN:VEVENT
DTSTART;TZID=Europe/Berlin:20221127T170000
DTEND;TZID=Europe/Berlin:20221127T180000
DTSTAMP:20260424T002759
CREATED:20221125T183304Z
LAST-MODIFIED:20221130T210851Z
UID:296-1669568400-1669572000@christen-in-mittweida.de
SUMMARY:Themen-Gottesdienst
DESCRIPTION:
URL:https://christen-in-mittweida.de/event/themen-gottesdienst/
LOCATION:Lutherhaus\, Landeskirchliche Gemeinschaft (LKG) Mittweida - Lutherhaus\, Mittweida\, 09648\, Deutschland
CATEGORIES:Landeskirchliche Gemeinschaft
END:VEVENT
END:VCALENDAR